BEGIN:VCALENDAR
METHOD:PUBLISH
PRODID:-//Weblication CMS
VERSION:2.0
BEGIN:VEVENT
SUMMARY:10. Pikettübung mit Einsatzzentrale
DTSTART:20170623T000000
DTEND:20170623T000000
DESCRIPTION:Juni Übung inkl. Ehemalige Angehörige der Feuerwehr Spiez
LOCATION:
UID:http://www.spiez.ch/feuerwehr/Kalender/termine/7615340948.php
URL:http://www.spiez.ch/feuerwehr/Kalender/termine/7615340948.php
END:VEVENT
END:VCALENDAR