BEGIN:VCALENDAR
METHOD:PUBLISH
PRODID:-//Weblication CMS
VERSION:2.0
BEGIN:VEVENT
SUMMARY:2. Kaderrapport
DTSTART:20170818T000000
DTEND:20170818T000000
DESCRIPTION:Infoaustausch / REGA Basis Interlaken
LOCATION:
UID:http://www.spiez.ch/feuerwehr/Kalender/termine/7613668654.php
URL:http://www.spiez.ch/feuerwehr/Kalender/termine/7613668654.php
END:VEVENT
END:VCALENDAR