BEGIN:VCALENDAR
METHOD:PUBLISH
PRODID:-//Weblication CMS
VERSION:2.0
BEGIN:VEVENT
SUMMARY:8. Autodrehleiter-Übung
DTSTART:20170831T000000
DTEND:20170831T000000
DESCRIPTION:ADL Training, Stellung und Technik
LOCATION:
UID:http://www.spiez.ch/feuerwehr/Kalender/termine/7131292079.php
URL:http://www.spiez.ch/feuerwehr/Kalender/termine/7131292079.php
END:VEVENT
END:VCALENDAR