BEGIN:VCALENDAR
METHOD:PUBLISH
PRODID:-//Weblication CMS
VERSION:2.0
BEGIN:VEVENT
SUMMARY:5. Pikettübung mit Einsatzzentrale
DTSTART:20170313T000000
DTEND:20170313T000000
DESCRIPTION:1/2 Pikettzug Atemschutz im Regionalen Feuerwehr Ausbildungszentrum in Thun RFA und 1/2 Pikettzug Personenrettung bei Unfällen
LOCATION:
UID:http://www.spiez.ch/feuerwehr/Kalender/termine/6837615490.php
URL:http://www.spiez.ch/feuerwehr/Kalender/termine/6837615490.php
END:VEVENT
END:VCALENDAR