BEGIN:VCALENDAR
METHOD:PUBLISH
PRODID:-//Weblication CMS
VERSION:2.0
BEGIN:VEVENT
SUMMARY:4. Technische Fahrschule
DTSTART:20170629T000000
DTEND:20170629T000000
DESCRIPTION:Technische Ausbildung Fahrzeuge und Geräte
LOCATION:
UID:http://www.spiez.ch/feuerwehr/Kalender/termine/6770148482.php
URL:http://www.spiez.ch/feuerwehr/Kalender/termine/6770148482.php
END:VEVENT
END:VCALENDAR