BEGIN:VCALENDAR
METHOD:PUBLISH
PRODID:-//Weblication CMS
VERSION:2.0
BEGIN:VEVENT
SUMMARY:9. Autodrehleiter-Übung
DTSTART:20171019T000000
DTEND:20171019T000000
DESCRIPTION:ADL Training, Stellung und Technik
LOCATION:
UID:http://www.spiez.ch/feuerwehr/Kalender/termine/6589801088.php
URL:http://www.spiez.ch/feuerwehr/Kalender/termine/6589801088.php
END:VEVENT
END:VCALENDAR