BEGIN:VCALENDAR
METHOD:PUBLISH
PRODID:-//Weblication CMS
VERSION:2.0
BEGIN:VEVENT
SUMMARY:1. Autodrehleiter-Übung
DTSTART:20170126T000000
DTEND:20170126T000000
DESCRIPTION:ADL Training, Stellung und Technik
LOCATION:
UID:http://www.spiez.ch/feuerwehr/Kalender/termine/5886050794.php
URL:http://www.spiez.ch/feuerwehr/Kalender/termine/5886050794.php
END:VEVENT
END:VCALENDAR