BEGIN:VCALENDAR
METHOD:PUBLISH
PRODID:-//Weblication CMS
VERSION:2.0
BEGIN:VEVENT
SUMMARY:Schlussabend Feuerwehr Spiez
DTSTART:20170106T000000
DTEND:20170106T000000
DESCRIPTION:Wie jedes Jahr findet am 6. Januar 2017 der Schlussabend des vergangenen Jahres der Feuerwehr Spiez statt.
LOCATION:
UID:http://www.spiez.ch/feuerwehr/Kalender/termine/5762324598.php
URL:http://www.spiez.ch/feuerwehr/Kalender/termine/5762324598.php
END:VEVENT
END:VCALENDAR