BEGIN:VCALENDAR
METHOD:PUBLISH
PRODID:-//Weblication CMS
VERSION:2.0
BEGIN:VEVENT
SUMMARY:2. Offiziersrapport
DTSTART:20170627T000000
DTEND:20170627T000000
DESCRIPTION:Nach separatem Aufgebot des Kommandanten
LOCATION:
UID:http://www.spiez.ch/feuerwehr/Kalender/termine/5254433032.php
URL:http://www.spiez.ch/feuerwehr/Kalender/termine/5254433032.php
END:VEVENT
END:VCALENDAR