BEGIN:VCALENDAR
METHOD:PUBLISH
PRODID:-//Weblication CMS
VERSION:2.0
BEGIN:VEVENT
SUMMARY:9. Pikettübung mit Einsatzzentrale
DTSTART:20170612T000000
DTEND:20170612T000000
DESCRIPTION:Einsatzübungen Technische Hilfeleistung
LOCATION:
UID:http://www.spiez.ch/feuerwehr/Kalender/termine/4830554821.php
URL:http://www.spiez.ch/feuerwehr/Kalender/termine/4830554821.php
END:VEVENT
END:VCALENDAR