BEGIN:VCALENDAR
METHOD:PUBLISH
PRODID:-//Weblication CMS
VERSION:2.0
BEGIN:VEVENT
SUMMARY:4. Einsatzleiter-Übung
DTSTART:20171127T000000
DTEND:20171127T000000
DESCRIPTION:Abspracherapport mit Polizei und Sanität
LOCATION:
UID:http://www.spiez.ch/feuerwehr/Kalender/termine/4642090626.php
URL:http://www.spiez.ch/feuerwehr/Kalender/termine/4642090626.php
END:VEVENT
END:VCALENDAR