BEGIN:VCALENDAR
METHOD:PUBLISH
PRODID:-//Weblication CMS
VERSION:2.0
BEGIN:VEVENT
SUMMARY:2. Einsatzleiter-Übung
DTSTART:20170619T000000
DTEND:20170619T000000
DESCRIPTION:Neues Einsatzleiterfahrzeug
LOCATION:
UID:http://www.spiez.ch/feuerwehr/Kalender/termine/3744442999.php
URL:http://www.spiez.ch/feuerwehr/Kalender/termine/3744442999.php
END:VEVENT
END:VCALENDAR