BEGIN:VCALENDAR
METHOD:PUBLISH
PRODID:-//Weblication CMS
VERSION:2.0
BEGIN:VEVENT
SUMMARY:11. Autodrehleiter-Übung
DTSTART:20171123T000000
DTEND:20171123T000000
DESCRIPTION:ADL Training, Stellung und Technik
LOCATION:
UID:http://www.spiez.ch/feuerwehr/Kalender/termine/3489712577.php
URL:http://www.spiez.ch/feuerwehr/Kalender/termine/3489712577.php
END:VEVENT
END:VCALENDAR