BEGIN:VCALENDAR
METHOD:PUBLISH
PRODID:-//Weblication CMS
VERSION:2.0
BEGIN:VEVENT
SUMMARY:2. Kaderübung
DTSTART:20170529T000000
DTEND:20170529T000000
DESCRIPTION:Personenrettung bei Unfällen Führung Front
LOCATION:
UID:http://www.spiez.ch/feuerwehr/Kalender/termine/3382354241.php
URL:http://www.spiez.ch/feuerwehr/Kalender/termine/3382354241.php
END:VEVENT
END:VCALENDAR