BEGIN:VCALENDAR
METHOD:PUBLISH
PRODID:-//Weblication CMS
VERSION:2.0
BEGIN:VEVENT
SUMMARY:1. Technische Fahrschule
DTSTART:20170112T000000
DTEND:20170112T000000
DESCRIPTION:Technische Ausbildung Fahrzeug und Geräte
LOCATION:
UID:http://www.spiez.ch/feuerwehr/Kalender/termine/2946237471.php
URL:http://www.spiez.ch/feuerwehr/Kalender/termine/2946237471.php
END:VEVENT
END:VCALENDAR