BEGIN:VCALENDAR
METHOD:PUBLISH
PRODID:-//Weblication CMS
VERSION:2.0
BEGIN:VEVENT
SUMMARY:1. Löschzugübung West
DTSTART:20180214T190000
DTEND:20180214T210000
DESCRIPTION:
LOCATION:Spiez
UID:http://www.spiez.ch/feuerwehr/Kalender/termine/1959079726-Kopie-(9).php
URL:http://www.spiez.ch/feuerwehr/Kalender/termine/1959079726-Kopie-(9).php
END:VEVENT
END:VCALENDAR