BEGIN:VCALENDAR
METHOD:PUBLISH
PRODID:-//Weblication CMS
VERSION:2.0
BEGIN:VEVENT
SUMMARY:4. Löschzugübung Ost mit Rekruten
DTSTART:20180508T190000
DTEND:20180508T210000
DESCRIPTION:
LOCATION:Faulensee
UID:http://www.spiez.ch/feuerwehr/Kalender/termine/1959079726-Kopie-(5).php
URL:http://www.spiez.ch/feuerwehr/Kalender/termine/1959079726-Kopie-(5).php
END:VEVENT
END:VCALENDAR