BEGIN:VCALENDAR
METHOD:PUBLISH
PRODID:-//Weblication CMS
VERSION:2.0
BEGIN:VEVENT
SUMMARY:5. Löschzugübung Ost
DTSTART:20180630T190000
DTEND:20180630T210000
DESCRIPTION:
LOCATION:Faulensee
UID:http://www.spiez.ch/feuerwehr/Kalender/termine/1959079726-Kopie-(3).php
URL:http://www.spiez.ch/feuerwehr/Kalender/termine/1959079726-Kopie-(3).php
END:VEVENT
END:VCALENDAR