BEGIN:VCALENDAR
METHOD:PUBLISH
PRODID:-//Weblication CMS
VERSION:2.0
BEGIN:VEVENT
SUMMARY:4. Löschzugübung West mit Pikettzug
DTSTART:20180507T190000
DTEND:20180507T210000
DESCRIPTION:
LOCATION:Spiez
UID:http://www.spiez.ch/feuerwehr/Kalender/termine/1959079726-Kopie-(17).php
URL:http://www.spiez.ch/feuerwehr/Kalender/termine/1959079726-Kopie-(17).php
END:VEVENT
END:VCALENDAR