BEGIN:VCALENDAR
METHOD:PUBLISH
PRODID:-//Weblication CMS
VERSION:2.0
BEGIN:VEVENT
SUMMARY:5. Löschzugübung West mit Rekruten
DTSTART:20180613T190000
DTEND:20180613T210000
DESCRIPTION:
LOCATION:Spiez
UID:http://www.spiez.ch/feuerwehr/Kalender/termine/1959079726-Kopie-(16).php
URL:http://www.spiez.ch/feuerwehr/Kalender/termine/1959079726-Kopie-(16).php
END:VEVENT
END:VCALENDAR