BEGIN:VCALENDAR
METHOD:PUBLISH
PRODID:-//Weblication CMS
VERSION:2.0
BEGIN:VEVENT
SUMMARY:8. und 9. Löschzugübung West inkl. Ost
DTSTART:20181020T190000
DTEND:20181020T210000
DESCRIPTION:
LOCATION:Spiez
UID:http://www.spiez.ch/feuerwehr/Kalender/termine/1959079726-Kopie-(13).php
URL:http://www.spiez.ch/feuerwehr/Kalender/termine/1959079726-Kopie-(13).php
END:VEVENT
END:VCALENDAR