BEGIN:VCALENDAR
METHOD:PUBLISH
PRODID:-//Weblication CMS
VERSION:2.0
BEGIN:VEVENT
SUMMARY:1. Pikettübung mit Einsatzzentrale
DTSTART:20170109T190000
DTEND:20170109T210000
DESCRIPTION:Material, Informationen und Atemschutz
LOCATION:
UID:http://www.spiez.ch/feuerwehr/Kalender/termine/1375132568.php
URL:http://www.spiez.ch/feuerwehr/Kalender/termine/1375132568.php
END:VEVENT
END:VCALENDAR