BEGIN:VCALENDAR
METHOD:PUBLISH
PRODID:-//Weblication CMS
VERSION:2.0
BEGIN:VEVENT
SUMMARY:15. und 16 Pikettübung
DTSTART:20181109T080000
DTEND:20181110T170000
DESCRIPTION:
LOCATION:Büren an der Aare
UID:http://www.spiez.ch/feuerwehr/Kalender/termine/1068964628-Kopie-(15).php
URL:http://www.spiez.ch/feuerwehr/Kalender/termine/1068964628-Kopie-(15).php
END:VEVENT
END:VCALENDAR