BEGIN:VCALENDAR
METHOD:PUBLISH
PRODID:-//Weblication CMS
VERSION:2.0
BEGIN:VEVENT
SUMMARY:17. Pikettübung (Schlussübung)
DTSTART:20181207T190000
DTEND:20181208T000000
DESCRIPTION:
LOCATION:Spiez
UID:http://www.spiez.ch/feuerwehr/Kalender/termine/1068964628-Kopie-(14).php
URL:http://www.spiez.ch/feuerwehr/Kalender/termine/1068964628-Kopie-(14).php
END:VEVENT
END:VCALENDAR