BEGIN:VCALENDAR
METHOD:PUBLISH
PRODID:-//Weblication CMS
VERSION:2.0
BEGIN:VEVENT
SUMMARY:12. Pikettübung
DTSTART:20180903T190000
DTEND:20180903T210000
DESCRIPTION:
LOCATION:Spiez
UID:http://www.spiez.ch/feuerwehr/Kalender/termine/1068964628-Kopie-(10).php
URL:http://www.spiez.ch/feuerwehr/Kalender/termine/1068964628-Kopie-(10).php
END:VEVENT
END:VCALENDAR